BEGIN:VCALENDAR
PRODID:-//eluceo/ical//2.0/EN
VERSION:2.0
CALSCALE:GREGORIAN
BEGIN:VEVENT
UID:9b2af04d465a68eca3c7bcd3b1dc82fd
DTSTAMP:20260422T180529Z
SUMMARY:Generalversammlung - Restaurant Stockalperhof
DESCRIPTION:Website: https://www.stockalperhof.ch/
URL:https://rotary-brig.ch/nl/agenda/show/195879
DTSTART;TZID=Europe/Zurich:20250602T183000
DTEND;TZID=Europe/Zurich:20250602T230000
LOCATION:Restaurant Stockalperhof\, Alte Simplonstrasse 6\, 3900 Brig
CATEGORIES:Rotary
END:VEVENT
BEGIN:VTIMEZONE
TZID:Europe/Zurich
BEGIN:DAYLIGHT
DTSTART:20250602T183000
TZNAME:CEST
TZOFFSETTO:+0200
TZOFFSETFROM:+0200
END:DAYLIGHT
END:VTIMEZONE
END:VCALENDAR
