BEGIN:VCALENDAR
PRODID:-//eluceo/ical//2.0/EN
VERSION:2.0
CALSCALE:GREGORIAN
BEGIN:VEVENT
UID:7752f873a2905fe120187821bd814996
DTSTAMP:20260419T133518Z
SUMMARY:Veloausflug mit der Fux Campagna 
DESCRIPTION:Für den traditionellen Fahrradausflug mit den Bewohnern des Wo
 hnheims Fux Campagna werden noch einige Pedaleure mit guter Ausdauer gesuc
 ht.\nVefsíða: http://www.fuxcampagna.ch
URL:https://rotary-brig.ch/is/agenda/show/102555
DTSTART;TZID=Europe/Zurich:20190808T093000
DTEND;TZID=Europe/Zurich:20190808T153000
LOCATION:Wohnheim Fux Campagna
CATEGORIES:Rotary
END:VEVENT
BEGIN:VTIMEZONE
TZID:Europe/Zurich
BEGIN:DAYLIGHT
DTSTART:20190808T093000
TZNAME:CEST
TZOFFSETTO:+0200
TZOFFSETFROM:+0200
END:DAYLIGHT
END:VTIMEZONE
END:VCALENDAR
