BEGIN:VCALENDAR
PRODID:-//eluceo/ical//2.0/EN
VERSION:2.0
CALSCALE:GREGORIAN
BEGIN:VEVENT
UID:f61cb27c6fbba454d13695c3a365a375
DTSTAMP:20260419T182053Z
SUMMARY:Die Kandidaten der Ständeratswahlen stellen sich vor 
DESCRIPTION:Fyrirlesari(ar): Moderation: Pascal Indermitte
URL:https://rotary-brig.ch/is/agenda/show/100558
DTSTART;TZID=Europe/Zurich:20190902T183000
DTEND;TZID=Europe/Zurich:20190902T193000
LOCATION:Restaurant Bellevue Naters
CATEGORIES:Rotary
END:VEVENT
BEGIN:VTIMEZONE
TZID:Europe/Zurich
BEGIN:DAYLIGHT
DTSTART:20190902T183000
TZNAME:CEST
TZOFFSETTO:+0200
TZOFFSETFROM:+0200
END:DAYLIGHT
END:VTIMEZONE
END:VCALENDAR
