BEGIN:VCALENDAR
PRODID:-//eluceo/ical//2.0/EN
VERSION:2.0
CALSCALE:GREGORIAN
BEGIN:VEVENT
UID:40ed81f0af25761374b3d0c283fd7415
DTSTAMP:20260419T132305Z
SUMMARY:Open Air Gampel (Partneranlass)
DESCRIPTION:Vefsíða: https://www.openairgampel.ch/2019/\nFyrirlesari(ar):
  Oli Imboden
URL:https://rotary-brig.ch/is/agenda/show/100554
DTSTART;TZID=Europe/Zurich:20190818T000000
DTEND;TZID=Europe/Zurich:20190818T000000
LOCATION:Gampel
CATEGORIES:Rotary
END:VEVENT
BEGIN:VTIMEZONE
TZID:Europe/Zurich
BEGIN:DAYLIGHT
DTSTART:20190818T000000
TZNAME:CEST
TZOFFSETTO:+0200
TZOFFSETFROM:+0200
END:DAYLIGHT
END:VTIMEZONE
END:VCALENDAR
