BEGIN:VCALENDAR
PRODID:-//eluceo/ical//2.0/EN
VERSION:2.0
CALSCALE:GREGORIAN
BEGIN:VEVENT
UID:e6cd4f6da2494dfe18a699ecd53e871e
DTSTAMP:20260419T141608Z
SUMMARY:SCHLOSS LEUK - Interclubmeeting mit dem RC Leuk
DESCRIPTION:Besuch Schloss Leuk gemeinsam mit dem RC Leukerbad. Von Arnold 
 Steiner\, Stiftungsratspräsident Schloss Leuk\, erfahren wir Aktuelles ru
 nd ums Schloss und deren Stiftung. Carlo Schmidt\, Kulturverantwortlicher 
 der Gemeinde Leuk stellt uns die aktuellsten kulturellen Projekte vor. Im 
 Anschluss serviert uns die Cave Rhodan\, Olivier Mounir\, ein Apéro.\nSit
 e internet: http://www.schlossleuk.ch/\nConférencier(s): Arnold Steiner\,
  Stiftungsratspräsident\nCarlo Schmidt\, Kulturverantwortlicher Schloss L
 euk
URL:https://rotary-brig.ch/fr/agenda/show/73896
DTSTART;TZID=Europe/Zurich:20170529T183000
DTEND;TZID=Europe/Zurich:20170529T183000
LOCATION:Schloss Leuk\, Haupteingang
CATEGORIES:Rotary
END:VEVENT
BEGIN:VTIMEZONE
TZID:Europe/Zurich
BEGIN:DAYLIGHT
DTSTART:20170529T183000
TZNAME:CEST
TZOFFSETTO:+0200
TZOFFSETFROM:+0200
END:DAYLIGHT
END:VTIMEZONE
END:VCALENDAR
