BEGIN:VCALENDAR
PRODID:-//eluceo/ical//2.0/EN
VERSION:2.0
CALSCALE:GREGORIAN
BEGIN:VEVENT
UID:4c86ed01fca1a4b05a649f90befd6fef
DTSTAMP:20260425T103452Z
SUMMARY:REDEN IST GOLD
DESCRIPTION:"Zwei Herzen schlagen ach in meiner Brust"\, so sagt Shakespear
 e's Hamlet.\nDies kann auch für unseren Gast Tillmann Luther gelten.\n\nN
 ach seinem Theologie und Geologiestudium war Herr Tillmann Luther\, Jahrga
 ng 1960\, Pfarrer im Saarland und in Rheinland-Pfalz. Seit 2001 amtet er a
 ls Gemeindepfarrer in der reformierten Kirchgemeinde Visp.\n\nEr wurde 201
 3 Europameister in Stegreif-Rede und erreichte den 3. Platz für die vorbe
 reitete humorvolle Rede.  Davon wird er uns berichten.\n\n \n\n \nConf
 érencier(s): Tillmann Luther\, reformierter Pfarrer Visp\, Theologe\, Geo
 loge\, Rhethoriker
URL:https://rotary-brig.ch/fr/agenda/show/72868
DTSTART;TZID=Europe/Zurich:20170403T183000
DTEND;TZID=Europe/Zurich:20170403T183000
LOCATION:Restaurant Bellevue Naters
CATEGORIES:Rotary
END:VEVENT
BEGIN:VTIMEZONE
TZID:Europe/Zurich
BEGIN:DAYLIGHT
DTSTART:20170403T183000
TZNAME:CEST
TZOFFSETTO:+0200
TZOFFSETFROM:+0200
END:DAYLIGHT
END:VTIMEZONE
END:VCALENDAR
