BEGIN:VCALENDAR
PRODID:-//eluceo/ical//2.0/EN
VERSION:2.0
CALSCALE:GREGORIAN
BEGIN:VEVENT
UID:cb3b0b0ccd0457a380120c56854cf506
DTSTAMP:20260419T141450Z
SUMMARY:TREFFEN DER WALLISER ROTARY CLUBS
DESCRIPTION:PROGRAMM\n\n09:30          Talstation Sunnegga-Standse
 ilbahn bei den Rotary-Fahnen\n                    Besam
 mlung und Verteilung der Skipässe\n\nab 10:00     Restaurant Sunnegga
 \n                    Bergüssung mit Kaffee und Gipfe
 li\n\nab 10:30     Skigebiet Zermatt\n                
      Freies Skifahren\n\n13:30           Trockener Steg\, Re
 staurant ICE\n                     Apéro\, Mittagesse
 n und Vortrag Herr Markus Hasler\, CEO ZBAG\n\n15:00           T
 rockener Steg\, Restaurant ICE\n                     V
 erabschiedung\nConférencier(s): Skitag in Zermatt mit Vortrag von Herrn M
 arkus Hasler\, CEO Zermatt Bergbahnen
URL:https://rotary-brig.ch/fr/agenda/show/72174
DTSTART;TZID=Europe/Zurich:20170318T093000
DTEND;TZID=Europe/Zurich:20170318T153000
LOCATION:Zermatt
CATEGORIES:Rotary
END:VEVENT
BEGIN:VTIMEZONE
TZID:Europe/Zurich
BEGIN:STANDARD
DTSTART:20170318T093000
TZNAME:CET
TZOFFSETTO:+0100
TZOFFSETFROM:+0100
END:STANDARD
END:VTIMEZONE
END:VCALENDAR
