BEGIN:VCALENDAR
PRODID:-//eluceo/ical//2.0/EN
VERSION:2.0
CALSCALE:GREGORIAN
BEGIN:VEVENT
UID:74adf9ac0834a6fcfa3c3c024b9bf64d
DTSTAMP:20260419T141956Z
SUMMARY:JAHRESVERSAMMLUNG
DESCRIPTION:Conférencier(s): Marcus Marienfeld\, Präsident\nVorstandsmitg
 lieder
URL:https://rotary-brig.ch/fr/agenda/show/69011
DTSTART;TZID=Europe/Zurich:20161212T183000
DTEND;TZID=Europe/Zurich:20161212T183000
LOCATION:Restaurant Staldbach\, Visp
CATEGORIES:Rotary
END:VEVENT
BEGIN:VTIMEZONE
TZID:Europe/Zurich
BEGIN:STANDARD
DTSTART:20161212T183000
TZNAME:CET
TZOFFSETTO:+0100
TZOFFSETFROM:+0100
END:STANDARD
END:VTIMEZONE
END:VCALENDAR
