BEGIN:VCALENDAR
PRODID:-//eluceo/ical//2.0/EN
VERSION:2.0
CALSCALE:GREGORIAN
BEGIN:VEVENT
UID:a9e4671680850b7d5371772a04843ece
DTSTAMP:20260421T120937Z
SUMMARY:Enalpin\, Wasserkraft und Sonnenenergie - Pfammatter Diego
DESCRIPTION:
URL:https://rotary-brig.ch/fr/agenda/show/43598
DTSTART;TZID=Europe/Zurich:20140825T183000
DTEND;TZID=Europe/Zurich:20140825T183000
LOCATION:Kraftwerk Ackersand
CATEGORIES:Rotary
END:VEVENT
BEGIN:VTIMEZONE
TZID:Europe/Zurich
BEGIN:DAYLIGHT
DTSTART:20140825T183000
TZNAME:CEST
TZOFFSETTO:+0200
TZOFFSETFROM:+0200
END:DAYLIGHT
END:VTIMEZONE
END:VCALENDAR
