BEGIN:VCALENDAR
PRODID:-//eluceo/ical//2.0/EN
VERSION:2.0
CALSCALE:GREGORIAN
BEGIN:VEVENT
UID:261ed0382573de242be35b7612aa9167
DTSTAMP:20260421T084509Z
SUMMARY:Klassifikationsvortrag Rot. Marc Wyssen
DESCRIPTION:Conférencier(s): Rot. Marc Wyssen
URL:https://rotary-brig.ch/fr/agenda/show/39125
DTSTART;TZID=Europe/Zurich:20140407T183000
DTEND;TZID=Europe/Zurich:20140407T183000
LOCATION:Tourist Info Visp\, Balfrinstrasse 3
CATEGORIES:Rotary
END:VEVENT
BEGIN:VTIMEZONE
TZID:Europe/Zurich
BEGIN:DAYLIGHT
DTSTART:20140407T183000
TZNAME:CEST
TZOFFSETTO:+0200
TZOFFSETFROM:+0200
END:DAYLIGHT
END:VTIMEZONE
END:VCALENDAR
