BEGIN:VCALENDAR
PRODID:-//eluceo/ical//2.0/EN
VERSION:2.0
CALSCALE:GREGORIAN
BEGIN:VEVENT
UID:38d9396211804e44f0551ee97a148fc1
DTSTAMP:20260421T120759Z
SUMMARY:Early Coffee
DESCRIPTION:
URL:https://rotary-brig.ch/fr/agenda/show/39124
DTSTART;TZID=Europe/Zurich:20140403T070000
DTEND;TZID=Europe/Zurich:20140403T070000
LOCATION:Hotel Visperhof\, Visp
CATEGORIES:Rotary
END:VEVENT
BEGIN:VTIMEZONE
TZID:Europe/Zurich
BEGIN:DAYLIGHT
DTSTART:20140403T070000
TZNAME:CEST
TZOFFSETTO:+0200
TZOFFSETFROM:+0200
END:DAYLIGHT
END:VTIMEZONE
END:VCALENDAR
