BEGIN:VCALENDAR
PRODID:-//eluceo/ical//2.0/EN
VERSION:2.0
CALSCALE:GREGORIAN
BEGIN:VEVENT
UID:0328dfd88b9e34bbea1ccea81ad68e9b
DTSTAMP:20260421T113354Z
SUMMARY:Präfekt Gestern-Heute-Morgen
DESCRIPTION:Conférencier(s): Stefan Truffer
URL:https://rotary-brig.ch/fr/agenda/show/35431
DTSTART;TZID=Europe/Zurich:20131028T183000
DTEND;TZID=Europe/Zurich:20131028T183000
LOCATION:Restaurant Staldbach\, Visp
CATEGORIES:Rotary
END:VEVENT
BEGIN:VTIMEZONE
TZID:Europe/Zurich
BEGIN:STANDARD
DTSTART:20131028T183000
TZNAME:CET
TZOFFSETTO:+0100
TZOFFSETFROM:+0100
END:STANDARD
END:VTIMEZONE
END:VCALENDAR
