BEGIN:VCALENDAR
PRODID:-//eluceo/ical//2.0/EN
VERSION:2.0
CALSCALE:GREGORIAN
BEGIN:VEVENT
UID:a4209ba5efb626c913b10cd8921ad741
DTSTAMP:20260424T092636Z
SUMMARY:Lonza Lufttrennanlage\, Visp
DESCRIPTION:Anmeldung obligatorisch\nMenu: Kleines kaltes Buffet\nConféren
 cier(s): Martin Witschard
URL:https://rotary-brig.ch/fr/agenda/show/33007
DTSTART;TZID=Europe/Zurich:20130729T183000
DTEND;TZID=Europe/Zurich:20130729T183000
LOCATION:Verwaltungsgebäude Lonza\, Visp
CATEGORIES:Rotary
END:VEVENT
BEGIN:VTIMEZONE
TZID:Europe/Zurich
BEGIN:DAYLIGHT
DTSTART:20130729T183000
TZNAME:CEST
TZOFFSETTO:+0200
TZOFFSETFROM:+0200
END:DAYLIGHT
END:VTIMEZONE
END:VCALENDAR
