BEGIN:VCALENDAR
PRODID:-//eluceo/ical//2.0/EN
VERSION:2.0
CALSCALE:GREGORIAN
BEGIN:VEVENT
UID:f6837d573913f828385cb3e1013caaa9
DTSTAMP:20260419T120503Z
SUMMARY:Hugo Bringhen - Paul Harris Fellow
DESCRIPTION:Conférencier(s): Rot. Donat Jäger
URL:https://rotary-brig.ch/fr/agenda/show/26360
DTSTART;TZID=Europe/Zurich:20121022T183000
DTEND;TZID=Europe/Zurich:20121022T183000
LOCATION:Stadthotel Simplon
CATEGORIES:Rotary
END:VEVENT
BEGIN:VTIMEZONE
TZID:Europe/Zurich
BEGIN:DAYLIGHT
DTSTART:20121022T183000
TZNAME:CEST
TZOFFSETTO:+0200
TZOFFSETFROM:+0200
END:DAYLIGHT
END:VTIMEZONE
END:VCALENDAR
