BEGIN:VCALENDAR
PRODID:-//eluceo/ical//2.0/EN
VERSION:2.0
CALSCALE:GREGORIAN
BEGIN:VEVENT
UID:38d71ca59bda442c75cd21bf030622ef
DTSTAMP:20260420T125502Z
SUMMARY:Clubbesuch RC Saastal
DESCRIPTION:Conférencier(s): Rot. Martin Anthamatten
URL:https://rotary-brig.ch/fr/agenda/show/24217
DTSTART;TZID=Europe/Zurich:20120716T183000
DTEND;TZID=Europe/Zurich:20120716T183000
LOCATION:Saas Fee
CATEGORIES:Rotary
END:VEVENT
BEGIN:VTIMEZONE
TZID:Europe/Zurich
BEGIN:DAYLIGHT
DTSTART:20120716T183000
TZNAME:CEST
TZOFFSETTO:+0200
TZOFFSETFROM:+0200
END:DAYLIGHT
END:VTIMEZONE
END:VCALENDAR
