BEGIN:VCALENDAR
PRODID:-//eluceo/ical//2.0/EN
VERSION:2.0
CALSCALE:GREGORIAN
BEGIN:VEVENT
UID:b0b1fa1fbb9469a90db3b9b93d4e5109
DTSTAMP:20260424T091011Z
SUMMARY:PLAUDERLUNCH
DESCRIPTION:
URL:https://rotary-brig.ch/fr/agenda/show/12978
DTSTART;TZID=Europe/Zurich:20091217T120000
DTEND;TZID=Europe/Zurich:20091217T120000
LOCATION:Restaurant Staldbach\, Visp
CATEGORIES:Rotary
END:VEVENT
BEGIN:VTIMEZONE
TZID:Europe/Zurich
BEGIN:STANDARD
DTSTART:20091217T120000
TZNAME:CET
TZOFFSETTO:+0100
TZOFFSETFROM:+0100
END:STANDARD
END:VTIMEZONE
END:VCALENDAR
