BEGIN:VCALENDAR
PRODID:-//eluceo/ical//2.0/EN
VERSION:2.0
CALSCALE:GREGORIAN
BEGIN:VEVENT
UID:622274075b8e73288783d0a59d3eb46c
DTSTAMP:20260423T131627Z
SUMMARY:Verbier Festival
DESCRIPTION:Site internet: https://www.verbierfestival.com/
URL:https://rotary1990.ch/fr/agenda/show/123668
DTSTART;TZID=Europe/Zurich:20230715T180000
DTEND;TZID=Europe/Zurich:20230715T233000
LOCATION:Verbier
CATEGORIES:Rotary
END:VEVENT
BEGIN:VTIMEZONE
TZID:Europe/Zurich
BEGIN:DAYLIGHT
DTSTART:20230715T180000
TZNAME:CEST
TZOFFSETTO:+0200
TZOFFSETFROM:+0200
END:DAYLIGHT
END:VTIMEZONE
END:VCALENDAR
