BEGIN:VCALENDAR
PRODID:-//eluceo/ical//2.0/EN
VERSION:2.0
CALSCALE:GREGORIAN
BEGIN:VEVENT
UID:27d755dea2f2858f9df9e9b71a137829
DTSTAMP:20260421T150529Z
SUMMARY:Klassifikationsvortrag Melanie
DESCRIPTION:Conférencier(s): Melanie Pfammatter
URL:https://rotary-brig.ch/fr/agenda/show/112213
DTSTART;TZID=Europe/Zurich:20200622T183000
DTEND;TZID=Europe/Zurich:20200622T193000
LOCATION:online
CATEGORIES:Rotary
END:VEVENT
BEGIN:VTIMEZONE
TZID:Europe/Zurich
BEGIN:DAYLIGHT
DTSTART:20200622T183000
TZNAME:CEST
TZOFFSETTO:+0200
TZOFFSETFROM:+0200
END:DAYLIGHT
END:VTIMEZONE
END:VCALENDAR
