BEGIN:VCALENDAR
PRODID:-//eluceo/ical//2.0/EN
VERSION:2.0
CALSCALE:GREGORIAN
BEGIN:VEVENT
UID:1920e3680d8b5d2b90998f4cad81a6cd
DTSTAMP:20260425T121023Z
SUMMARY:Virtuelles Meeting
DESCRIPTION:Conférencier(s): Marina Britz\, Präsidentin des Rotary Club H
 atfield (Südafrika) sowie der Jazzpianist Charl du Plessis aus Pretoria (
 Südafrika)
URL:https://rotary-brig.ch/fr/agenda/show/111938
DTSTART;TZID=Europe/Zurich:20200511T183000
DTEND;TZID=Europe/Zurich:20200511T193000
LOCATION:online
CATEGORIES:Rotary
END:VEVENT
BEGIN:VTIMEZONE
TZID:Europe/Zurich
BEGIN:DAYLIGHT
DTSTART:20200511T183000
TZNAME:CEST
TZOFFSETTO:+0200
TZOFFSETFROM:+0200
END:DAYLIGHT
END:VTIMEZONE
END:VCALENDAR
