BEGIN:VCALENDAR
PRODID:-//eluceo/ical//2.0/EN
VERSION:2.0
CALSCALE:GREGORIAN
BEGIN:VEVENT
UID:e646e492c6ede97f7866924d610d16c1
DTSTAMP:20260425T120947Z
SUMMARY:Virtuelles Meeting - Corona v.s. Kultur
DESCRIPTION:Conférencier(s): Mit von der Partie sind drei im Kulturbereich
  tätige Rotarier*in sowie die Briger Sopranistin Rachel Harnisch und der 
 Künstler Emil Michael Klein\, der 2014 einen Kulturförderpreis des Kanto
 ns Wallis e
URL:https://rotary-brig.ch/fr/agenda/show/111810
DTSTART;TZID=Europe/Zurich:20200420T183000
DTEND;TZID=Europe/Zurich:20200420T193000
LOCATION:online
CATEGORIES:Rotary
END:VEVENT
BEGIN:VTIMEZONE
TZID:Europe/Zurich
BEGIN:DAYLIGHT
DTSTART:20200420T183000
TZNAME:CEST
TZOFFSETTO:+0200
TZOFFSETFROM:+0200
END:DAYLIGHT
END:VTIMEZONE
END:VCALENDAR
