BEGIN:VCALENDAR
PRODID:-//eluceo/ical//2.0/EN
VERSION:2.0
CALSCALE:GREGORIAN
BEGIN:VEVENT
UID:bf99076484ae82fa1b059a688ca18b88
DTSTAMP:20260420T125302Z
SUMMARY:Genmanipulation in der Pharmaindustrie (Stadhotel Simplon\, Brig)
DESCRIPTION:Conférencier(s): Cornelia Fux\, Norvartis
URL:https://rotary-brig.ch/fr/agenda/show/11063
DTSTART;TZID=Europe/Zurich:20090511T183000
DTEND;TZID=Europe/Zurich:20090511T183000
LOCATION:-
CATEGORIES:Rotary
END:VEVENT
BEGIN:VTIMEZONE
TZID:Europe/Zurich
BEGIN:DAYLIGHT
DTSTART:20090511T183000
TZNAME:CEST
TZOFFSETTO:+0200
TZOFFSETFROM:+0200
END:DAYLIGHT
END:VTIMEZONE
END:VCALENDAR
