BEGIN:VCALENDAR
PRODID:-//eluceo/ical//2.0/EN
VERSION:2.0
CALSCALE:GREGORIAN
BEGIN:VEVENT
UID:4f1e9b933d833d765f74254d3e98197e
DTSTAMP:20260421T150031Z
SUMMARY:Fasnachtsmeeting
DESCRIPTION:Menu: Fasnachtsspezialitäten im Bellevue\nConférencier(s): Fe
 lix Ruppen
URL:https://rotary-brig.ch/fr/agenda/show/109762
DTSTART;TZID=Europe/Zurich:20200217T183000
DTEND;TZID=Europe/Zurich:20200217T210000
LOCATION:Restaurant Bellevue\, Naters
CATEGORIES:Rotary
END:VEVENT
BEGIN:VTIMEZONE
TZID:Europe/Zurich
BEGIN:STANDARD
DTSTART:20200217T183000
TZNAME:CET
TZOFFSETTO:+0100
TZOFFSETFROM:+0100
END:STANDARD
END:VTIMEZONE
END:VCALENDAR
