BEGIN:VCALENDAR
PRODID:-//eluceo/ical//2.0/EN
VERSION:2.0
CALSCALE:GREGORIAN
BEGIN:VEVENT
UID:8da1849b5f74fd442bc3f196bac0f860
DTSTAMP:20260420T171600Z
SUMMARY:Vierclubmeeting: «Von Werra und Von Roten: Anmerkungen zur kritisc
 hen Aufarbeitung zweier faszinierender Oberwalliser Geschichten»\, Kino A
 storia\, Visp
DESCRIPTION:Referent ist Schriftsteller Wilfried Meichtry
URL:https://rotary-brig.ch/es/agenda/show/9382
DTSTART;TZID=Europe/Zurich:20081013T183000
DTEND;TZID=Europe/Zurich:20081013T203000
LOCATION:-
CATEGORIES:Rotary
END:VEVENT
BEGIN:VTIMEZONE
TZID:Europe/Zurich
BEGIN:DAYLIGHT
DTSTART:20081013T183000
TZNAME:CEST
TZOFFSETTO:+0200
TZOFFSETFROM:+0200
END:DAYLIGHT
END:VTIMEZONE
END:VCALENDAR
