BEGIN:VCALENDAR
PRODID:-//eluceo/ical//2.0/EN
VERSION:2.0
CALSCALE:GREGORIAN
BEGIN:VEVENT
UID:4e27455a67f0114aa25805ff713d2059
DTSTAMP:20260420T171825Z
SUMMARY:Innovativer Apitherapie & traditionelle chinesische Medizin
DESCRIPTION:Referent: Jonas Zenhäusern
URL:https://rotary-brig.ch/es/agenda/show/9380
DTSTART;TZID=Europe/Zurich:20080929T183000
DTEND;TZID=Europe/Zurich:20080929T203000
LOCATION:-
CATEGORIES:Rotary
END:VEVENT
BEGIN:VTIMEZONE
TZID:Europe/Zurich
BEGIN:DAYLIGHT
DTSTART:20080929T183000
TZNAME:CEST
TZOFFSETTO:+0200
TZOFFSETFROM:+0200
END:DAYLIGHT
END:VTIMEZONE
END:VCALENDAR
