BEGIN:VCALENDAR
PRODID:-//eluceo/ical//2.0/EN
VERSION:2.0
CALSCALE:GREGORIAN
BEGIN:VEVENT
UID:fbb202235faa43a69c62da6dc2cac721
DTSTAMP:20260421T054627Z
SUMMARY:VOLKSABSTIMMUNG - Kurzstatements zu den drei Vorlagen
DESCRIPTION:Orador(es): Rot. Thomas Grichting\, Rot. Donat Jäger\, Rot. Ur
 s Geissbühler
URL:https://rotary-brig.ch/es/agenda/show/13772
DTSTART;TZID=Europe/Zurich:20100301T183000
DTEND;TZID=Europe/Zurich:20100301T183000
LOCATION:Stadthotel Simplon\, Brig
CATEGORIES:Rotary
END:VEVENT
BEGIN:VTIMEZONE
TZID:Europe/Zurich
BEGIN:STANDARD
DTSTART:20100301T183000
TZNAME:CET
TZOFFSETTO:+0100
TZOFFSETFROM:+0100
END:STANDARD
END:VTIMEZONE
END:VCALENDAR
