BEGIN:VCALENDAR
PRODID:-//eluceo/ical//2.0/EN
VERSION:2.0
CALSCALE:GREGORIAN
BEGIN:VEVENT
UID:fe99a5da9fd07958fb2f8a81018df1b6
DTSTAMP:20260421T040105Z
SUMMARY:LANGLAUFWOCHE GOMS
DESCRIPTION:Langlaufwoche Goms vom 23.01. bis 30.01.2010 organisiert vom Ro
 tary Club Brig
URL:https://rotary-brig.ch/es/agenda/show/13382
DTSTART;TZID=Europe/Zurich:20100123T000000
DTEND;TZID=Europe/Zurich:20100130T000000
LOCATION:Oberwald im Goms
CATEGORIES:Rotary
END:VEVENT
BEGIN:VTIMEZONE
TZID:Europe/Zurich
BEGIN:STANDARD
DTSTART:20100123T000000
TZNAME:CET
TZOFFSETTO:+0100
TZOFFSETFROM:+0100
END:STANDARD
END:VTIMEZONE
END:VCALENDAR
