BEGIN:VCALENDAR
PRODID:-//eluceo/ical//2.0/EN
VERSION:2.0
CALSCALE:GREGORIAN
BEGIN:VEVENT
UID:84b69fb91b3b7c36bdccb246f0d9b5f3
DTSTAMP:20260421T054758Z
SUMMARY:FASTNACHTSMEETING - Die Kochenden Rotarier zu Gast in Staldbach's h
 eiligen Hallen - Anmeldung erforderlich!
DESCRIPTION:Partneranlass mit Essen.\nOrador(es): Durch den Abend führt Ol
 ivier Imboden
URL:https://rotary-brig.ch/es/agenda/show/13379
DTSTART;TZID=Europe/Zurich:20100215T183000
DTEND;TZID=Europe/Zurich:20100215T183000
LOCATION:Restaurant Staldbach\, Visp
CATEGORIES:Rotary
END:VEVENT
BEGIN:VTIMEZONE
TZID:Europe/Zurich
BEGIN:STANDARD
DTSTART:20100215T183000
TZNAME:CET
TZOFFSETTO:+0100
TZOFFSETFROM:+0100
END:STANDARD
END:VTIMEZONE
END:VCALENDAR
