BEGIN:VCALENDAR
PRODID:-//eluceo/ical//2.0/EN
VERSION:2.0
CALSCALE:GREGORIAN
BEGIN:VEVENT
UID:fd8a48f9d63534bc772c3b11cc15300d
DTSTAMP:20260421T021628Z
SUMMARY:WEIHNACHTSFEIER des Rotary Clubs Brig
DESCRIPTION:
URL:https://rotary-brig.ch/es/agenda/show/13017
DTSTART;TZID=Europe/Zurich:20091212T180000
DTEND;TZID=Europe/Zurich:20091212T180000
LOCATION:Antoniuskapelle und Stadthotel Simplon
CATEGORIES:Rotary
END:VEVENT
BEGIN:VTIMEZONE
TZID:Europe/Zurich
BEGIN:STANDARD
DTSTART:20091212T180000
TZNAME:CET
TZOFFSETTO:+0100
TZOFFSETFROM:+0100
END:STANDARD
END:VTIMEZONE
END:VCALENDAR
