BEGIN:VCALENDAR
PRODID:-//eluceo/ical//2.0/EN
VERSION:2.0
CALSCALE:GREGORIAN
BEGIN:VEVENT
UID:3c8b4c2fc9259d294062dc518fa42d65
DTSTAMP:20260421T025440Z
SUMMARY:DIE SHELTERBOX
DESCRIPTION:Vorstellung des Einsatzes des neuen Hilfswerkzeuges Shelterbox.
 \nOrador(es): Stefan Grösser
URL:https://rotary-brig.ch/es/agenda/show/12980
DTSTART;TZID=Europe/Zurich:20091228T183000
DTEND;TZID=Europe/Zurich:20091228T183000
LOCATION:Stadthotel Simplon
CATEGORIES:Rotary
END:VEVENT
BEGIN:VTIMEZONE
TZID:Europe/Zurich
BEGIN:STANDARD
DTSTART:20091228T183000
TZNAME:CET
TZOFFSETTO:+0100
TZOFFSETFROM:+0100
END:STANDARD
END:VTIMEZONE
END:VCALENDAR
