BEGIN:VCALENDAR
PRODID:-//eluceo/ical//2.0/EN
VERSION:2.0
CALSCALE:GREGORIAN
BEGIN:VEVENT
UID:82ad33f4d80565c3bab4d6bc752334fb
DTSTAMP:20260421T010900Z
SUMMARY:SENIORENAUSFLUG für alle Rotarier im AHV-Alter - Anmeldung erwüns
 cht.
DESCRIPTION:Nach dem Motto: Gemütliches Beisammensein mit Kultur. Kulturwe
 g Ausserberg - St. German mit Mittagessen im Restaurant Lauber.
URL:https://rotary-brig.ch/es/agenda/show/12675
DTSTART;TZID=Europe/Zurich:20091023T000000
DTEND;TZID=Europe/Zurich:20091023T000000
LOCATION:Treffpunkt Bahnhof Brig 9.30 Uhr\, Abfahrt 9.36 Uhr
CATEGORIES:Rotary
END:VEVENT
BEGIN:VTIMEZONE
TZID:Europe/Zurich
BEGIN:DAYLIGHT
DTSTART:20091023T000000
TZNAME:CEST
TZOFFSETTO:+0200
TZOFFSETFROM:+0200
END:DAYLIGHT
END:VTIMEZONE
END:VCALENDAR
