BEGIN:VCALENDAR
PRODID:-//eluceo/ical//2.0/EN
VERSION:2.0
CALSCALE:GREGORIAN
BEGIN:VEVENT
UID:016c8036a1036b46c64b47acd96865b5
DTSTAMP:20260421T010432Z
SUMMARY:REQUIEM
DESCRIPTION:Die Sänger treffen sich um 18.00 Uhr in der Sebastianskapelle.
  Anschliessend gehen wir gemeinsam ins Restaurant Du Pont.\nOrador(es): Ro
 t. Richard Lehner gestaltet die Andacht.
URL:https://rotary-brig.ch/es/agenda/show/12674
DTSTART;TZID=Europe/Zurich:20091026T183000
DTEND;TZID=Europe/Zurich:20091026T183000
LOCATION:Sebastianskapelle Brig
CATEGORIES:Rotary
END:VEVENT
BEGIN:VTIMEZONE
TZID:Europe/Zurich
BEGIN:STANDARD
DTSTART:20091026T183000
TZNAME:CET
TZOFFSETTO:+0100
TZOFFSETFROM:+0100
END:STANDARD
END:VTIMEZONE
END:VCALENDAR
