BEGIN:VCALENDAR
PRODID:-//eluceo/ical//2.0/EN
VERSION:2.0
CALSCALE:GREGORIAN
BEGIN:VEVENT
UID:3a0d6f644d5086bdee44449fcfc084d0
DTSTAMP:20260420T232953Z
SUMMARY:FREUNDSCHAFTSMEETING MIT KONTAKTCLUB RC PALLANZA STRESA - Anmeldung
  erforderlich!
DESCRIPTION:DAMENANLASS Besammlung auf dem Parkplatz des Gertschenareals in
  Naters
URL:https://rotary-brig.ch/es/agenda/show/12464
DTSTART;TZID=Europe/Zurich:20090919T083000
DTEND;TZID=Europe/Zurich:20090919T083000
LOCATION:Gardemuseum Naters - Belalp
CATEGORIES:Rotary
END:VEVENT
BEGIN:VTIMEZONE
TZID:Europe/Zurich
BEGIN:DAYLIGHT
DTSTART:20090919T083000
TZNAME:CEST
TZOFFSETTO:+0200
TZOFFSETFROM:+0200
END:DAYLIGHT
END:VTIMEZONE
END:VCALENDAR
