BEGIN:VCALENDAR
PRODID:-//eluceo/ical//2.0/EN
VERSION:2.0
CALSCALE:GREGORIAN
BEGIN:VEVENT
UID:8e4eb03f5b22e2f1cf854d2c825f788e
DTSTAMP:20260420T215557Z
SUMMARY:Käsespezialitäten vom Brigerberg
DESCRIPTION:Parken bei der Schule oder neben der Kirche\nOrador(es): Rudolf
  und Barbara Leuenberger
URL:https://rotary-brig.ch/es/agenda/show/11867
DTSTART;TZID=Europe/Zurich:20090727T183000
DTEND;TZID=Europe/Zurich:20090727T183000
LOCATION:Sennerei Brigerberg
CATEGORIES:Rotary
END:VEVENT
BEGIN:VTIMEZONE
TZID:Europe/Zurich
BEGIN:DAYLIGHT
DTSTART:20090727T183000
TZNAME:CEST
TZOFFSETTO:+0200
TZOFFSETFROM:+0200
END:DAYLIGHT
END:VTIMEZONE
END:VCALENDAR
