BEGIN:VCALENDAR
PRODID:-//eluceo/ical//2.0/EN
VERSION:2.0
CALSCALE:GREGORIAN
BEGIN:VEVENT
UID:57f31999a8eba84723c3fea0c7f636d5
DTSTAMP:20260420T173213Z
SUMMARY:Geschäft oder Idealismus (Stadthotel Simplon\, Brig)
DESCRIPTION:Orador(es): Roman Pfammatter\, Artistpool
URL:https://rotary-brig.ch/es/agenda/show/11044
DTSTART;TZID=Europe/Zurich:20090119T183000
DTEND;TZID=Europe/Zurich:20090119T183000
LOCATION:-
CATEGORIES:Rotary
END:VEVENT
BEGIN:VTIMEZONE
TZID:Europe/Zurich
BEGIN:STANDARD
DTSTART:20090119T183000
TZNAME:CET
TZOFFSETTO:+0100
TZOFFSETFROM:+0100
END:STANDARD
END:VTIMEZONE
END:VCALENDAR
