BEGIN:VCALENDAR
PRODID:-//eluceo/ical//2.0/EN
VERSION:2.0
CALSCALE:GREGORIAN
BEGIN:VEVENT
UID:0deba64cb4d02611632fe0597aedf767
DTSTAMP:20260424T091737Z
SUMMARY:Unsere Spende
DESCRIPTION:Referenten/innen: Rot. Franz Schmid\, Rot. Albert Andenmatten u
 nd Michael Zurwerra
URL:https://rotary-brig.ch/de/agenda/show/16799
DTSTART;TZID=Europe/Zurich:20110214T183000
DTEND;TZID=Europe/Zurich:20110214T183000
LOCATION:Stadthotel Simplon\, Brig
CATEGORIES:Rotary
END:VEVENT
BEGIN:VTIMEZONE
TZID:Europe/Zurich
BEGIN:STANDARD
DTSTART:20110214T183000
TZNAME:CET
TZOFFSETTO:+0100
TZOFFSETFROM:+0100
END:STANDARD
END:VTIMEZONE
END:VCALENDAR
