BEGIN:VCALENDAR
PRODID:-//eluceo/ical//2.0/EN
VERSION:2.0
CALSCALE:GREGORIAN
BEGIN:VEVENT
UID:9fb93b8f701616d65111cba6bd25a98f
DTSTAMP:20260421T204659Z
SUMMARY:LEHRWERKSTAETTEN "YAPEYU"
DESCRIPTION:Chanton Marzell berichtet uns über das Projekt zur Aufrüstung
  der  Lehrwerkstätten und zur Renovierung des Gebäudes.\nGovornik(ci): 
 Chanton Marzell 
URL:https://rotary-brig.ch/bs/agenda/show/79594
DTSTART;TZID=Europe/Zurich:20171016T183000
DTEND;TZID=Europe/Zurich:20171016T183000
LOCATION:Restaurant Staldbach
CATEGORIES:Rotary
END:VEVENT
BEGIN:VTIMEZONE
TZID:Europe/Zurich
BEGIN:DAYLIGHT
DTSTART:20171016T183000
TZNAME:CEST
TZOFFSETTO:+0200
TZOFFSETFROM:+0200
END:DAYLIGHT
END:VTIMEZONE
END:VCALENDAR
